BEGIN:VCALENDAR
VERSION:2.0
PRODID:-//Indien Training - ECPv6.15.18//NONSGML v1.0//EN
CALSCALE:GREGORIAN
METHOD:PUBLISH
X-WR-CALNAME:Indien Training
X-ORIGINAL-URL:https://www.indien-training.net
X-WR-CALDESC:Veranstaltungen für Indien Training
REFRESH-INTERVAL;VALUE=DURATION:PT1H
X-Robots-Tag:noindex
X-PUBLISHED-TTL:PT1H
BEGIN:VTIMEZONE
TZID:Europe/Berlin
BEGIN:DAYLIGHT
TZOFFSETFROM:+0100
TZOFFSETTO:+0200
TZNAME:CEST
DTSTART:20250330T010000
END:DAYLIGHT
BEGIN:STANDARD
TZOFFSETFROM:+0200
TZOFFSETTO:+0100
TZNAME:CET
DTSTART:20251026T010000
END:STANDARD
BEGIN:DAYLIGHT
TZOFFSETFROM:+0100
TZOFFSETTO:+0200
TZNAME:CEST
DTSTART:20260329T010000
END:DAYLIGHT
BEGIN:STANDARD
TZOFFSETFROM:+0200
TZOFFSETTO:+0100
TZNAME:CET
DTSTART:20261025T010000
END:STANDARD
BEGIN:DAYLIGHT
TZOFFSETFROM:+0100
TZOFFSETTO:+0200
TZNAME:CEST
DTSTART:20270328T010000
END:DAYLIGHT
BEGIN:STANDARD
TZOFFSETFROM:+0200
TZOFFSETTO:+0100
TZNAME:CET
DTSTART:20271031T010000
END:STANDARD
END:VTIMEZONE
BEGIN:VEVENT
DTSTART;TZID=Europe/Berlin:20260416T090000
DTEND;TZID=Europe/Berlin:20260417T170000
DTSTAMP:20260420T102401
CREATED:20251122T130953Z
LAST-MODIFIED:20251122T130955Z
UID:11399-1776330000-1776445200@www.indien-training.net
SUMMARY:Erfolgreiche Kommunikation und Zusammenarbeit (2 Tage\, online) - 16. & 17. April 2026
DESCRIPTION:ZIELGRUPPE:Mitarbeiter\, die häufiger oder im Rahmen von Projekten mit Indien zu tun haben (Teilnahme auch ohne Vorkenntnisse). In diesem Seminar geht es um wiederkehrende bzw. häufige Zusammenarbeit und evtl. persönliche Treffen mit indischen Kollegen oder Geschäftspartnern. \n\n\n\nKey Facts zum Indien Webinar\n\n\n\n\n\nVeranstaltungsort \n\n\n\n\n\n\n\nZielgruppe: Fach- und Führungskräfte mit Indienverantwortung\, die erstmals\, wiederholt oder im Rahmen von Projekten häufiger mit indischen Kollegen oder Geschäftspartnern zu tun haben. \n\n\n\nZiel des Webinars: Vermittlung eines praxisnahen Verständnisses für die fremdartige Zusammenarbeit und Kommunikation sowie den geschäftlichen Umgang mit indischen Kollegen und Geschäftspartnern. \n\n\n\nWebinarart: Offenes Webinar\, an dem auch Mitarbeiter anderer Unternehmen teilnehmen können. \n\n\n\nWebinarleiter: Die Teilnehmer unserer Seminare suchen Trainer\, die im Geschäftsalltag „ihre Sprache sprechen“ und für die Alltagsprobleme im internationalen Geschäft praxisrelevante Antworten und Lösungen anbieten. Die Trainer von Accenta Asia bringen genau diese Anforderungen mit: mehrjährige praktische Managementerfahrung in der Wirtschaft und den jeweiligen Zielregionen als auch mehrjährige professionelle Trainererfahrung. Diese Kombination von Wissen und Erfahrung gewährleistet den Teilnehmern unserer Seminare bestmögliche Resultate beim Aufbau ihrer interkulturellen Kompetenz für den direkten Geschäftserfolg. \n\n\n\nLeistungen: Online Webinar-Durchführung\, Webinarunterlagen\, Teilnahmezertifikat \n\n\n\nWebinarpreis: EURO 1.490.- pro Person zzgl. Mwst. \n\n\n\nWebinardauer: 2 Tage (jeweils von 9.00-17.00 Uhr) \n\n\n\nTeilnehmerzahl: Max. 8 Personen (um jedem Teilnehmer genügend Zeit für Diskussionen eigener Themen zu geben). \n\n\n\nGARANTIE: Wir garantieren\, dass das Webinar unabhängig von der Teilnehmerzahl stattfindet. \n\n\n\nAnmeldung: Nutzen Sie unser Anmeldeformular \n\n\n\nWebinarinformationen: Für detaillierte Informationen wie Webinarinhalte schauen Sie sich gerne unsere Webinarinformationen an. \n\n\n\nWebinarinfo_Zusammenarbeit_Indien_2 Tage
URL:https://www.indien-training.net/seminar/erfolgreiche-kommunikation-und-zusammenarbeit-2-tage-online-16-17-april-2026/
LOCATION:Online\, Webinar\, MS Teams
CATEGORIES:Erfolgreiche Kommunikation und Zusammenarbeit mit Indien,Webinar
ORGANIZER;CN="Accenta Asia":MAILTO:kontakt@accenta-asia.de
END:VEVENT
BEGIN:VEVENT
DTSTART;TZID=Europe/Berlin:20260416T090000
DTEND;TZID=Europe/Berlin:20260416T170000
DTSTAMP:20260420T102401
CREATED:20251122T125547Z
LAST-MODIFIED:20251122T125549Z
UID:11369-1776330000-1776358800@www.indien-training.net
SUMMARY:Interkulturelle Kompetenz Indien (1 Tag\, online) - 16. April 2026
DESCRIPTION:ZIELGRUPPE:Mitarbeiter\, die gelegentlich mit Indien zu tun haben (Teilnahme auch ohne Vorkenntnisse).In diesem Seminar geht es um eine erste Sensibilisierung für gelegentliche Kontakte mit indischen Kollegen oder Geschäftspartnern. \n\n\n\nKey Facts zum Indien Webinar\n\n\n\n\n\nVeranstaltungsort \n\n\n\n\n\n\n\nZielgruppe: Fach- und Führungskräfte\, die erstmals oder gelegentlich mit indischen Geschäftspartner zu tun haben (Basisseminar). \n\n\n\nZiel des Webinars: Vermittlung eines grundsätzlichen Verständnisses für die fremdartige Kommunikation und den geschäftlichen Umgang mit indischen Kollegen und Geschäftspartnern. \n\n\n\nWebinarart: Offenes Webinar\, an dem auch Mitarbeiter anderer Unternehmen teilnehmen können. \n\n\n\nWebinarleiter: Die Teilnehmer unserer Seminare suchen Trainer\, die im Geschäftsalltag „ihre Sprache sprechen“ und für die Alltagsprobleme im internationalen Geschäft praxisrelevante Antworten und Lösungen anbieten. Die Trainer von Accenta Asia bringen genau diese Anforderungen mit: mehrjährige praktische Managementerfahrung in der Wirtschaft und den jeweiligen Zielregionen als auch mehrjährige professionelle Trainererfahrung. Diese Kombination von Wissen und Erfahrung gewährleistet den Teilnehmern unserer Seminare bestmögliche Resultate beim Aufbau ihrer interkulturellen Kompetenz für den direkten Geschäftserfolg. \n\n\n\nLeistungen: Online Webinar-Durchführung\, Webinarunterlagen\, Teilnahmezertifikat \n\n\n\nWebinarpreis: EURO 890.- pro Person zzgl. Mwst. \n\n\n\nWebinardauer: 1 Tag (von 9.00-17.00 Uhr) \n\n\n\nTeilnehmerzahl: Max. 8 Personen (um jedem Teilnehmer genügend Zeit für Diskussionen eigener Themen zu geben). \n\n\n\nGARANTIE: Wir garantieren\, dass das Webinar unabhängig von der Teilnehmerzahl stattfindet. \n\n\n\nAnmeldung: Nutzen Sie unser Anmeldeformular \n\n\n\nWebinarinformationen: Für detaillierte Informationen wie Webinarinhalte schauen Sie sich gerne unsere Webinarinformationen an. \n\n\n\nWebinarinfo_Interkulturelle_Kompetenz_Indien_1 Tag
URL:https://www.indien-training.net/seminar/interkulturelle-kompetenz-indien-1-tag-online-16-april-2026/
LOCATION:Online\, Webinar\, MS Teams
CATEGORIES:Interkulturelle Kompetenz Indien,Webinar
ORGANIZER;CN="Accenta Asia":MAILTO:kontakt@accenta-asia.de
END:VEVENT
BEGIN:VEVENT
DTSTART;TZID=Europe/Berlin:20260305T090000
DTEND;TZID=Europe/Berlin:20260306T170000
DTSTAMP:20260420T102401
CREATED:20251122T130924Z
LAST-MODIFIED:20251122T130926Z
UID:11398-1772701200-1772816400@www.indien-training.net
SUMMARY:Erfolgreiche Kommunikation und Zusammenarbeit (2 Tage\, online) - 05. & 06. März 2026
DESCRIPTION:ZIELGRUPPE:Mitarbeiter\, die häufiger oder im Rahmen von Projekten mit Indien zu tun haben (Teilnahme auch ohne Vorkenntnisse). In diesem Seminar geht es um wiederkehrende bzw. häufige Zusammenarbeit und evtl. persönliche Treffen mit indischen Kollegen oder Geschäftspartnern. \n\n\n\nKey Facts zum Indien Webinar\n\n\n\n\n\nVeranstaltungsort \n\n\n\n\n\n\n\nZielgruppe: Fach- und Führungskräfte mit Indienverantwortung\, die erstmals\, wiederholt oder im Rahmen von Projekten häufiger mit indischen Kollegen oder Geschäftspartnern zu tun haben. \n\n\n\nZiel des Webinars: Vermittlung eines praxisnahen Verständnisses für die fremdartige Zusammenarbeit und Kommunikation sowie den geschäftlichen Umgang mit indischen Kollegen und Geschäftspartnern. \n\n\n\nWebinarart: Offenes Webinar\, an dem auch Mitarbeiter anderer Unternehmen teilnehmen können. \n\n\n\nWebinarleiter: Die Teilnehmer unserer Seminare suchen Trainer\, die im Geschäftsalltag „ihre Sprache sprechen“ und für die Alltagsprobleme im internationalen Geschäft praxisrelevante Antworten und Lösungen anbieten. Die Trainer von Accenta Asia bringen genau diese Anforderungen mit: mehrjährige praktische Managementerfahrung in der Wirtschaft und den jeweiligen Zielregionen als auch mehrjährige professionelle Trainererfahrung. Diese Kombination von Wissen und Erfahrung gewährleistet den Teilnehmern unserer Seminare bestmögliche Resultate beim Aufbau ihrer interkulturellen Kompetenz für den direkten Geschäftserfolg. \n\n\n\nLeistungen: Online Webinar-Durchführung\, Webinarunterlagen\, Teilnahmezertifikat \n\n\n\nWebinarpreis: EURO 1.490.- pro Person zzgl. Mwst. \n\n\n\nWebinardauer: 2 Tage (jeweils von 9.00-17.00 Uhr) \n\n\n\nTeilnehmerzahl: Max. 8 Personen (um jedem Teilnehmer genügend Zeit für Diskussionen eigener Themen zu geben). \n\n\n\nGARANTIE: Wir garantieren\, dass das Webinar unabhängig von der Teilnehmerzahl stattfindet. \n\n\n\nAnmeldung: Nutzen Sie unser Anmeldeformular \n\n\n\nWebinarinformationen: Für detaillierte Informationen wie Webinarinhalte schauen Sie sich gerne unsere Webinarinformationen an. \n\n\n\nWebinarinfo_Zusammenarbeit_Indien_2 Tage
URL:https://www.indien-training.net/seminar/erfolgreiche-kommunikation-und-zusammenarbeit-2-tage-online-05-06-maerz-2026/
LOCATION:Online\, Webinar\, MS Teams
CATEGORIES:Erfolgreiche Kommunikation und Zusammenarbeit mit Indien,Webinar
ORGANIZER;CN="Accenta Asia":MAILTO:kontakt@accenta-asia.de
END:VEVENT
BEGIN:VEVENT
DTSTART;TZID=Europe/Berlin:20260305T090000
DTEND;TZID=Europe/Berlin:20260305T170000
DTSTAMP:20260420T102401
CREATED:20251122T125530Z
LAST-MODIFIED:20251122T125532Z
UID:11368-1772701200-1772730000@www.indien-training.net
SUMMARY:Interkulturelle Kompetenz Indien (1 Tag\, online) - 05. März 2026
DESCRIPTION:ZIELGRUPPE:Mitarbeiter\, die gelegentlich mit Indien zu tun haben (Teilnahme auch ohne Vorkenntnisse).In diesem Seminar geht es um eine erste Sensibilisierung für gelegentliche Kontakte mit indischen Kollegen oder Geschäftspartnern. \n\n\n\nKey Facts zum Indien Webinar\n\n\n\n\n\nVeranstaltungsort \n\n\n\n\n\n\n\nZielgruppe: Fach- und Führungskräfte\, die erstmals oder gelegentlich mit indischen Geschäftspartner zu tun haben (Basisseminar). \n\n\n\nZiel des Webinars: Vermittlung eines grundsätzlichen Verständnisses für die fremdartige Kommunikation und den geschäftlichen Umgang mit indischen Kollegen und Geschäftspartnern. \n\n\n\nWebinarart: Offenes Webinar\, an dem auch Mitarbeiter anderer Unternehmen teilnehmen können. \n\n\n\nWebinarleiter: Die Teilnehmer unserer Seminare suchen Trainer\, die im Geschäftsalltag „ihre Sprache sprechen“ und für die Alltagsprobleme im internationalen Geschäft praxisrelevante Antworten und Lösungen anbieten. Die Trainer von Accenta Asia bringen genau diese Anforderungen mit: mehrjährige praktische Managementerfahrung in der Wirtschaft und den jeweiligen Zielregionen als auch mehrjährige professionelle Trainererfahrung. Diese Kombination von Wissen und Erfahrung gewährleistet den Teilnehmern unserer Seminare bestmögliche Resultate beim Aufbau ihrer interkulturellen Kompetenz für den direkten Geschäftserfolg. \n\n\n\nLeistungen: Online Webinar-Durchführung\, Webinarunterlagen\, Teilnahmezertifikat \n\n\n\nWebinarpreis: EURO 890.- pro Person zzgl. Mwst. \n\n\n\nWebinardauer: 1 Tag (von 9.00-17.00 Uhr) \n\n\n\nTeilnehmerzahl: Max. 8 Personen (um jedem Teilnehmer genügend Zeit für Diskussionen eigener Themen zu geben). \n\n\n\nGARANTIE: Wir garantieren\, dass das Webinar unabhängig von der Teilnehmerzahl stattfindet. \n\n\n\nAnmeldung: Nutzen Sie unser Anmeldeformular \n\n\n\nWebinarinformationen: Für detaillierte Informationen wie Webinarinhalte schauen Sie sich gerne unsere Webinarinformationen an. \n\n\n\nWebinarinfo_Interkulturelle_Kompetenz_Indien_1 Tag
URL:https://www.indien-training.net/seminar/interkulturelle-kompetenz-indien-1-tag-online-05-maerz-2026/
LOCATION:Online\, Webinar\, MS Teams
CATEGORIES:Interkulturelle Kompetenz Indien,Webinar
ORGANIZER;CN="Accenta Asia":MAILTO:kontakt@accenta-asia.de
END:VEVENT
BEGIN:VEVENT
DTSTART;TZID=Europe/Berlin:20260217T090000
DTEND;TZID=Europe/Berlin:20260218T170000
DTSTAMP:20260420T102401
CREATED:20251122T130855Z
LAST-MODIFIED:20260121T124705Z
UID:11397-1771318800-1771434000@www.indien-training.net
SUMMARY:Erfolgreiche Kommunikation und Zusammenarbeit (2 Tage\, online) - 17. & 18. Februar 2026
DESCRIPTION:ZIELGRUPPE:Mitarbeiter\, die häufiger oder im Rahmen von Projekten mit Indien zu tun haben (Teilnahme auch ohne Vorkenntnisse). In diesem Seminar geht es um wiederkehrende bzw. häufige Zusammenarbeit und evtl. persönliche Treffen mit indischen Kollegen oder Geschäftspartnern. \n\n\n\nKey Facts zum Indien Webinar\n\n\n\n\n\nVeranstaltungsort \n\n\n\n\n\n\n\nZielgruppe: Fach- und Führungskräfte mit Indienverantwortung\, die erstmals\, wiederholt oder im Rahmen von Projekten häufiger mit indischen Kollegen oder Geschäftspartnern zu tun haben. \n\n\n\nZiel des Webinars: Vermittlung eines praxisnahen Verständnisses für die fremdartige Zusammenarbeit und Kommunikation sowie den geschäftlichen Umgang mit indischen Kollegen und Geschäftspartnern. \n\n\n\nWebinarart: Offenes Webinar\, an dem auch Mitarbeiter anderer Unternehmen teilnehmen können. \n\n\n\nWebinarleiter: Die Teilnehmer unserer Seminare suchen Trainer\, die im Geschäftsalltag „ihre Sprache sprechen“ und für die Alltagsprobleme im internationalen Geschäft praxisrelevante Antworten und Lösungen anbieten. Die Trainer von Accenta Asia bringen genau diese Anforderungen mit: mehrjährige praktische Managementerfahrung in der Wirtschaft und den jeweiligen Zielregionen als auch mehrjährige professionelle Trainererfahrung. Diese Kombination von Wissen und Erfahrung gewährleistet den Teilnehmern unserer Seminare bestmögliche Resultate beim Aufbau ihrer interkulturellen Kompetenz für den direkten Geschäftserfolg. \n\n\n\nLeistungen: Online Webinar-Durchführung\, Webinarunterlagen\, Teilnahmezertifikat \n\n\n\nWebinarpreis: EURO 1.490.- pro Person zzgl. Mwst. \n\n\n\nWebinardauer: 2 Tage (jeweils von 9.00-17.00 Uhr) \n\n\n\nTeilnehmerzahl: Max. 8 Personen (um jedem Teilnehmer genügend Zeit für Diskussionen eigener Themen zu geben). \n\n\n\nGARANTIE: Wir garantieren\, dass das Webinar unabhängig von der Teilnehmerzahl stattfindet. \n\n\n\nAnmeldung: Nutzen Sie unser Anmeldeformular \n\n\n\nWebinarinformationen: Für detaillierte Informationen wie Webinarinhalte schauen Sie sich gerne unsere Webinarinformationen an. \n\n\n\nWebinarinfo_Zusammenarbeit_Indien_2 Tage
URL:https://www.indien-training.net/seminar/erfolgreiche-kommunikation-und-zusammenarbeit-2-tage-online-09-10-februar-2026/
LOCATION:Online\, Webinar\, MS Teams
CATEGORIES:Erfolgreiche Kommunikation und Zusammenarbeit mit Indien,Webinar
ORGANIZER;CN="Accenta Asia":MAILTO:kontakt@accenta-asia.de
END:VEVENT
BEGIN:VEVENT
DTSTART;TZID=Europe/Berlin:20260217T090000
DTEND;TZID=Europe/Berlin:20260217T170000
DTSTAMP:20260420T102401
CREATED:20251122T125512Z
LAST-MODIFIED:20260121T124633Z
UID:11367-1771318800-1771347600@www.indien-training.net
SUMMARY:Interkulturelle Kompetenz Indien (1 Tag\, online) - 17. Februar 2026
DESCRIPTION:ZIELGRUPPE:Mitarbeiter\, die gelegentlich mit Indien zu tun haben (Teilnahme auch ohne Vorkenntnisse).In diesem Seminar geht es um eine erste Sensibilisierung für gelegentliche Kontakte mit indischen Kollegen oder Geschäftspartnern. \n\n\n\nKey Facts zum Indien Webinar\n\n\n\n\n\nVeranstaltungsort \n\n\n\n\n\n\n\nZielgruppe: Fach- und Führungskräfte\, die erstmals oder gelegentlich mit indischen Geschäftspartner zu tun haben (Basisseminar). \n\n\n\nZiel des Webinars: Vermittlung eines grundsätzlichen Verständnisses für die fremdartige Kommunikation und den geschäftlichen Umgang mit indischen Kollegen und Geschäftspartnern. \n\n\n\nWebinarart: Offenes Webinar\, an dem auch Mitarbeiter anderer Unternehmen teilnehmen können. \n\n\n\nWebinarleiter: Die Teilnehmer unserer Seminare suchen Trainer\, die im Geschäftsalltag „ihre Sprache sprechen“ und für die Alltagsprobleme im internationalen Geschäft praxisrelevante Antworten und Lösungen anbieten. Die Trainer von Accenta Asia bringen genau diese Anforderungen mit: mehrjährige praktische Managementerfahrung in der Wirtschaft und den jeweiligen Zielregionen als auch mehrjährige professionelle Trainererfahrung. Diese Kombination von Wissen und Erfahrung gewährleistet den Teilnehmern unserer Seminare bestmögliche Resultate beim Aufbau ihrer interkulturellen Kompetenz für den direkten Geschäftserfolg. \n\n\n\nLeistungen: Online Webinar-Durchführung\, Webinarunterlagen\, Teilnahmezertifikat \n\n\n\nWebinarpreis: EURO 890.- pro Person zzgl. Mwst. \n\n\n\nWebinardauer: 1 Tag (von 9.00-17.00 Uhr) \n\n\n\nTeilnehmerzahl: Max. 8 Personen (um jedem Teilnehmer genügend Zeit für Diskussionen eigener Themen zu geben). \n\n\n\nGARANTIE: Wir garantieren\, dass das Webinar unabhängig von der Teilnehmerzahl stattfindet. \n\n\n\nAnmeldung: Nutzen Sie unser Anmeldeformular \n\n\n\nWebinarinformationen: Für detaillierte Informationen wie Webinarinhalte schauen Sie sich gerne unsere Webinarinformationen an. \n\n\n\nWebinarinfo_Interkulturelle_Kompetenz_Indien_1 Tag
URL:https://www.indien-training.net/seminar/interkulturelle-kompetenz-indien-1-tag-online-09-februar-2026/
LOCATION:Online\, Webinar\, MS Teams
CATEGORIES:Interkulturelle Kompetenz Indien,Webinar
ORGANIZER;CN="Accenta Asia":MAILTO:kontakt@accenta-asia.de
END:VEVENT
BEGIN:VEVENT
DTSTART;TZID=Europe/Berlin:20260205T090000
DTEND;TZID=Europe/Berlin:20260206T170000
DTSTAMP:20260420T102401
CREATED:20251122T123719Z
LAST-MODIFIED:20251122T124952Z
UID:11358-1770282000-1770397200@www.indien-training.net
SUMMARY:Erfolgreiche Kommunikation und Zusammenarbeit (2 Tage\, Köln) - 05. & 06. Februar 2026
DESCRIPTION:ZIELGRUPPE:Mitarbeiter\, die häufiger oder im Rahmen von Projekten mit Indien zu tun haben (Teilnahme auch ohne Vorkenntnisse). In diesem Seminar geht es um wiederkehrende bzw. häufige Zusammenarbeit und evtl. persönliche Treffen mit indischen Kollegen oder Geschäftspartnern. \n\n\n\nKey Facts zum Indien Seminar\n\n\n\n\n\nVeranstaltungsort \n\n\n\n\n\n\n\nZielgruppe: Fach- und Führungskräfte mit Indienverantwortung\, die erstmals\, wiederholt oder im Rahmen von Projekten Geschäfte mit indischen Geschäftspartnern machen oder Besprechungen führen möchten. \n\n\n\nZiel des Seminars: Vermittlung eines grundsätzlichen Verständnisses für die für Europäer fremdartige indische Lebens- und Geschäftskultur sowie für die Kommunikation und Zusammenarbeit mit Indern. Damit Erarbeitung einer bestmöglichen Voraussetzung für eine erfolgreiche Umsetzung der unternehmerischen Ziele sowie Vermeidung von kostspieligen Fehlern im Umgang mit indischen Geschäftspartnern. \n\n\n\nSeminarart: Offenes Seminar\, an dem auch Mitarbeiter anderer Unternehmen teilnehmen können. \n\n\n\nSeminarleiter: Die Teilnehmer unserer Seminare suchen Trainer\, die im Geschäftsalltag „ihre Sprache sprechen“ und für die Alltagsprobleme im internationalen Geschäft praxisrelevante Antworten und Lösungen anbieten. Die Trainer von Accenta Asia bringen genau diese Anforderungen mit: mehrjährige praktische Managementerfahrung in der Wirtschaft und den jeweiligen Zielregionen als auch mehrjährige professionelle Trainererfahrung. Diese Kombination von Wissen und Erfahrung gewährleistet den Teilnehmern unserer Seminare bestmögliche Resultate beim Aufbau ihrer interkulturellen Kompetenz für den direkten Geschäftserfolg. \n\n\n\nLeistungen: Seminardurchführung\, Seminarunterlagen\, Mittagessen\, Seminargetränke\, Teilnahme-Zertifikat \n\n\n\nSeminarpreis: EURO 1.490.- pro Person zzgl. Mwst. \n\n\n\nSeminardauer: 2 Tage (jeweils von 9.00-17.00 Uhr) \n\n\n\nTeilnehmerzahl: Max. 8 Personen (um jedem Teilnehmer genügend Zeit für Diskussionen eigener Themen zu geben). \n\n\n\nGARANTIE: Wir garantieren\, dass das Seminar unabhängig von der Teilnehmerzahl stattfindet. \n\n\n\nAnmeldung: Nutzen Sie unser Anmeldeformular \n\n\n\nSeminarinformationen: Für detaillierte Informationen wie Seminarinhalte schauen Sie sich gerne unsere Seminarinformationen an. \n\n\n\nSeminarinfo Interkulturelle Kommunikation und Zusammenarbeit Indien
URL:https://www.indien-training.net/seminar/erfolgreiche-kommunikation-und-zusammenarbeit-2-tage-koeln-05-06-februar-2026/
LOCATION:Köln\, Gregorius-Maurus-Str. 11-17\, Köln\, 50670\, Germany
CATEGORIES:Erfolgreiche Kommunikation und Zusammenarbeit mit Indien,Seminar
ORGANIZER;CN="Accenta Asia":MAILTO:kontakt@accenta-asia.de
END:VEVENT
BEGIN:VEVENT
DTSTART;TZID=Europe/Berlin:20260205T090000
DTEND;TZID=Europe/Berlin:20260205T170000
DTSTAMP:20260420T102401
CREATED:20251122T115047Z
LAST-MODIFIED:20251122T124840Z
UID:11344-1770282000-1770310800@www.indien-training.net
SUMMARY:Interkulturelle Kompetenz Indien (1 Tag\, Köln) - 05. Februar 2026
DESCRIPTION:ZIELGRUPPE:Mitarbeiter\, die gelegentlich mit Indien zu tun haben (Teilnahme auch ohne Vorkenntnisse).In diesem Seminar geht es um eine erste Sensibilisierung für gelegentliche Kontakte mit indischen Kollegen oder Geschäftspartnern. \n\n\n\nKey Facts zum Indien Seminar\n\n\n\n\n\nVeranstaltungsort \n\n\n\n\n\n\n\nZielgruppe: Fach- und Führungskräfte\, die erstmals oder gelegentlich mit indischen Geschäftspartner zu tun haben (Basisseminar). \n\n\n\nZiel des Seminars: Vermittlung eines grundsätzlichen Verständnisses für die für Europäer sehr fremdartige Kommunikation und den geschäftlichen Umgang mit indischen Mitarbeitern und Geschäftspartnern. Damit Erarbeitung einer bestmöglichen Voraussetzung für die Vermeidung von kostspieligen Fehlern im Umgang mit indischen Geschäftspartnern. \n\n\n\nSeminarart: Offenes Seminar\, an dem auch Mitarbeiter anderer Unternehmen teilnehmen können. \n\n\n\nSeminarleiter: Die Teilnehmer unserer Seminare suchen Trainer\, die im Geschäftsalltag „ihre Sprache sprechen“ und für die Alltagsprobleme im internationalen Geschäft praxisrelevante Antworten und Lösungen anbieten. Die Trainer von Accenta Asia bringen genau diese Anforderungen mit: mehrjährige praktische Managementerfahrung in der Wirtschaft und den jeweiligen Zielregionen als auch mehrjährige professionelle Trainererfahrung. Diese Kombination von Wissen und Erfahrung gewährleistet den Teilnehmern unserer Seminare bestmögliche Resultate beim Aufbau ihrer interkulturellen Kompetenz für den direkten Geschäftserfolg. \n\n\n\nLeistungen: Seminardurchführung\, Seminarunterlagen\, Mittagessen\, Seminargetränke\, Teilnahme-Zertifikat \n\n\n\nSeminarpreis: EURO 890.- pro Person zzgl. Mwst. \n\n\n\nSeminardauer: 1 Tag (von 9.00-17.00 Uhr) \n\n\n\nTeilnehmerzahl: max. 8 Personen (um jedem Teilnehmer genügend Zeit für Diskussionen eigener Themen zu geben). \n\n\n\nGARANTIE: Wir garantieren\, dass das offene Seminar unabhängig von der Teilnehmerzahl stattfindet. \n\n\n\nAnmeldung: Nutzen Sie unser Anmeldeformular \n\n\n\nSeminarinformationen: Für detaillierte Informationen wie Seminarinhalte schauen Sie sich gerne unsere Seminarinformationen an \n\n\n\nSeminarinfo Interkulturelle Kompetenz Indien
URL:https://www.indien-training.net/seminar/interkulturelle-kompetenz-indien-1-tag-koeln-05-februar-2026/
LOCATION:Köln\, Gregorius-Maurus-Str. 11-17\, Köln\, 50670\, Germany
CATEGORIES:Interkulturelle Kompetenz Indien,Seminar
ORGANIZER;CN="Accenta Asia":MAILTO:kontakt@accenta-asia.de
END:VEVENT
BEGIN:VEVENT
DTSTART;TZID=Europe/Berlin:20260108T090000
DTEND;TZID=Europe/Berlin:20260109T170000
DTSTAMP:20260420T102401
CREATED:20251122T130852Z
LAST-MODIFIED:20251122T130854Z
UID:11396-1767862800-1767978000@www.indien-training.net
SUMMARY:Erfolgreiche Kommunikation und Zusammenarbeit (2 Tage\, online) - 08. & 09. Januar 2026
DESCRIPTION:ZIELGRUPPE:Mitarbeiter\, die häufiger oder im Rahmen von Projekten mit Indien zu tun haben (Teilnahme auch ohne Vorkenntnisse). In diesem Seminar geht es um wiederkehrende bzw. häufige Zusammenarbeit und evtl. persönliche Treffen mit indischen Kollegen oder Geschäftspartnern. \n\n\n\nKey Facts zum Indien Webinar\n\n\n\n\n\nVeranstaltungsort \n\n\n\n\n\n\n\nZielgruppe: Fach- und Führungskräfte mit Indienverantwortung\, die erstmals\, wiederholt oder im Rahmen von Projekten häufiger mit indischen Kollegen oder Geschäftspartnern zu tun haben. \n\n\n\nZiel des Webinars: Vermittlung eines praxisnahen Verständnisses für die fremdartige Zusammenarbeit und Kommunikation sowie den geschäftlichen Umgang mit indischen Kollegen und Geschäftspartnern. \n\n\n\nWebinarart: Offenes Webinar\, an dem auch Mitarbeiter anderer Unternehmen teilnehmen können. \n\n\n\nWebinarleiter: Die Teilnehmer unserer Seminare suchen Trainer\, die im Geschäftsalltag „ihre Sprache sprechen“ und für die Alltagsprobleme im internationalen Geschäft praxisrelevante Antworten und Lösungen anbieten. Die Trainer von Accenta Asia bringen genau diese Anforderungen mit: mehrjährige praktische Managementerfahrung in der Wirtschaft und den jeweiligen Zielregionen als auch mehrjährige professionelle Trainererfahrung. Diese Kombination von Wissen und Erfahrung gewährleistet den Teilnehmern unserer Seminare bestmögliche Resultate beim Aufbau ihrer interkulturellen Kompetenz für den direkten Geschäftserfolg. \n\n\n\nLeistungen: Online Webinar-Durchführung\, Webinarunterlagen\, Teilnahmezertifikat \n\n\n\nWebinarpreis: EURO 1.490.- pro Person zzgl. Mwst. \n\n\n\nWebinardauer: 2 Tage (jeweils von 9.00-17.00 Uhr) \n\n\n\nTeilnehmerzahl: Max. 8 Personen (um jedem Teilnehmer genügend Zeit für Diskussionen eigener Themen zu geben). \n\n\n\nGARANTIE: Wir garantieren\, dass das Webinar unabhängig von der Teilnehmerzahl stattfindet. \n\n\n\nAnmeldung: Nutzen Sie unser Anmeldeformular \n\n\n\nWebinarinformationen: Für detaillierte Informationen wie Webinarinhalte schauen Sie sich gerne unsere Webinarinformationen an. \n\n\n\nWebinarinfo_Zusammenarbeit_Indien_2 Tage
URL:https://www.indien-training.net/seminar/erfolgreiche-kommunikation-und-zusammenarbeit-2-tage-online-08-09-januar-2026/
LOCATION:Online\, Webinar\, MS Teams
CATEGORIES:Erfolgreiche Kommunikation und Zusammenarbeit mit Indien,Webinar
ORGANIZER;CN="Accenta Asia":MAILTO:kontakt@accenta-asia.de
END:VEVENT
BEGIN:VEVENT
DTSTART;TZID=Europe/Berlin:20260108T090000
DTEND;TZID=Europe/Berlin:20260108T170000
DTSTAMP:20260420T102401
CREATED:20251122T125506Z
LAST-MODIFIED:20251122T125507Z
UID:11366-1767862800-1767891600@www.indien-training.net
SUMMARY:Interkulturelle Kompetenz Indien (1 Tag\, online) - 08. Januar 2026
DESCRIPTION:ZIELGRUPPE:Mitarbeiter\, die gelegentlich mit Indien zu tun haben (Teilnahme auch ohne Vorkenntnisse).In diesem Seminar geht es um eine erste Sensibilisierung für gelegentliche Kontakte mit indischen Kollegen oder Geschäftspartnern. \n\n\n\nKey Facts zum Indien Webinar\n\n\n\n\n\nVeranstaltungsort \n\n\n\n\n\n\n\nZielgruppe: Fach- und Führungskräfte\, die erstmals oder gelegentlich mit indischen Geschäftspartner zu tun haben (Basisseminar). \n\n\n\nZiel des Webinars: Vermittlung eines grundsätzlichen Verständnisses für die fremdartige Kommunikation und den geschäftlichen Umgang mit indischen Kollegen und Geschäftspartnern. \n\n\n\nWebinarart: Offenes Webinar\, an dem auch Mitarbeiter anderer Unternehmen teilnehmen können. \n\n\n\nWebinarleiter: Die Teilnehmer unserer Seminare suchen Trainer\, die im Geschäftsalltag „ihre Sprache sprechen“ und für die Alltagsprobleme im internationalen Geschäft praxisrelevante Antworten und Lösungen anbieten. Die Trainer von Accenta Asia bringen genau diese Anforderungen mit: mehrjährige praktische Managementerfahrung in der Wirtschaft und den jeweiligen Zielregionen als auch mehrjährige professionelle Trainererfahrung. Diese Kombination von Wissen und Erfahrung gewährleistet den Teilnehmern unserer Seminare bestmögliche Resultate beim Aufbau ihrer interkulturellen Kompetenz für den direkten Geschäftserfolg. \n\n\n\nLeistungen: Online Webinar-Durchführung\, Webinarunterlagen\, Teilnahmezertifikat \n\n\n\nWebinarpreis: EURO 890.- pro Person zzgl. Mwst. \n\n\n\nWebinardauer: 1 Tag (von 9.00-17.00 Uhr) \n\n\n\nTeilnehmerzahl: Max. 8 Personen (um jedem Teilnehmer genügend Zeit für Diskussionen eigener Themen zu geben). \n\n\n\nGARANTIE: Wir garantieren\, dass das Webinar unabhängig von der Teilnehmerzahl stattfindet. \n\n\n\nAnmeldung: Nutzen Sie unser Anmeldeformular \n\n\n\nWebinarinformationen: Für detaillierte Informationen wie Webinarinhalte schauen Sie sich gerne unsere Webinarinformationen an. \n\n\n\nWebinarinfo_Interkulturelle_Kompetenz_Indien_1 Tag
URL:https://www.indien-training.net/seminar/interkulturelle-kompetenz-indien-1-tag-online-08-januar-2026/
LOCATION:Online\, Webinar\, MS Teams
CATEGORIES:Interkulturelle Kompetenz Indien,Webinar
ORGANIZER;CN="Accenta Asia":MAILTO:kontakt@accenta-asia.de
END:VEVENT
END:VCALENDAR